BEGIN:VCALENDAR
VERSION:2.0
PRODID:-//GAF - ECPv6.15.4//NONSGML v1.0//EN
CALSCALE:GREGORIAN
METHOD:PUBLISH
X-ORIGINAL-URL:https://gaf.com.ng
X-WR-CALDESC:Events for GAF
REFRESH-INTERVAL;VALUE=DURATION:PT1H
X-Robots-Tag:noindex
X-PUBLISHED-TTL:PT1H
BEGIN:VTIMEZONE
TZID:UTC
BEGIN:STANDARD
TZOFFSETFROM:+0000
TZOFFSETTO:+0000
TZNAME:UTC
DTSTART:20250101T000000
END:STANDARD
END:VTIMEZONE
BEGIN:VEVENT
DTSTART;TZID=UTC:20250918T162300
DTEND;TZID=UTC:20250918T162300
DTSTAMP:20260421T110509
CREATED:20250918T162322Z
LAST-MODIFIED:20250918T173844Z
UID:50085-1758212580-1758212580@gaf.com.ng
SUMMARY:Farming Events!!
DESCRIPTION:The Gubernatorial Aspirant Forum (GAF) is pleased to announce its upcoming event\, focusing on farming\, agribusiness\, and food security in Edo State. Agriculture remains the backbone of our economy\, serving as a powerful tool for job creation\, rural development\, and community empowerment. Yet\, farmers face challenges ranging from poor infrastructure and limited access to finance to insecurity and outdated practices. This event will bring together farmers\, agribusiness leaders\, policymakers\, and community stakeholders to discuss solutions\, share opportunities\, and shape a roadmap for sustainable farming and agribusiness growth in Edo State. Stay tuned for details on date\, venue\, and registration.Together\, we can cultivate a future of food security\, prosperity\, and progress for all.
URL:https://gaf.com.ng/event/coming-soon/
CATEGORIES:Community Engagement
ATTACH;FMTTYPE=image/png:https://gaf.com.ng/wp-content/uploads/2025/01/Coming-Soon.png
END:VEVENT
BEGIN:VEVENT
DTSTART;TZID=UTC:20250918T161741
DTEND;TZID=UTC:20250918T161741
DTSTAMP:20260421T110509
CREATED:20250118T210615Z
LAST-MODIFIED:20250918T161741Z
UID:39580-1758212261-1758212261@gaf.com.ng
SUMMARY:Coming Soon
DESCRIPTION:The Gubernatorial Aspirant Forum (GAF) is pleased to announce its upcoming event\, focusing on farming\, agribusiness\, and food security in Edo State. Agriculture remains the backbone of our economy\, serving as a powerful tool for job creation\, rural development\, and community empowerment. Yet\, farmers face challenges ranging from poor infrastructure and limited access to finance to insecurity and outdated practices. This event will bring together farmers\, agribusiness leaders\, policymakers\, and community stakeholders to discuss solutions\, share opportunities\, and shape a roadmap for sustainable farming and agribusiness growth in Edo State. Stay tuned for details on date\, venue\, and registration.Together\, we can cultivate a future of food security\, prosperity\, and progress for all.
URL:https://gaf.com.ng/event/community-town-hall/
CATEGORIES:Community Engagement
ATTACH;FMTTYPE=image/png:https://gaf.com.ng/wp-content/uploads/2025/01/Coming-Soon.png
END:VEVENT
END:VCALENDAR